BEGIN:VCALENDAR
VERSION:2.0
PRODID:-//eventon.com NONSGML v1.0//EN
CALSCALE:GREGORIAN
METHOD:PUBLISH
BEGIN:VEVENT
UID:69e9dcb4792a4
DTSTAMP:20260423T084748Z
DTSTART:20230530T163000Z
DTEND:20230530T173000Z
LOCATION:Studio dott.ssa Marzani Piazzale Luigi Cadorna\,  9 - 20123 Milano
SUMMARY:Reiki I livello
DESCRIPTION:Conferenza di presentazione Partecipa alla presentazione del I 
 livello del reiki tradizionale giapponese\,  i cui insegnamenti vengono tra
 mandati secondo criteri tipici di essenzialità\,  purezza energetica e di 
 metodo.\nhttps://danielamarzani.it/events/reiki-1-livello/
URL:https://danielamarzani.it/events/reiki-1-livello/
END:VEVENT
END:VCALENDAR